BEGIN:VCALENDAR
VERSION:2.0
PRODID:-//CiviCRM//NONSGML CiviEvent iCal//EN
X-WR-TIMEZONE:America/Toronto
METHOD:PUBLISH
BEGIN:VTIMEZONE
TZID:America/Toronto
BEGIN:DAYLIGHT
TZOFFSETFROM:-0400
TZOFFSETTO:-0400
TZNAME:EDT
DTSTART:20260503T090000
END:DAYLIGHT
END:VTIMEZONE
BEGIN:VEVENT
UID:CiviCRM_EventID_2317_441da8cf33d46d470982eddc5147b7c7@www.ontarioallianceofclimbers.ca
SUMMARY:Rattlesnake Spring Fling 2026
X-ALT-DESC;FMTTYPE=text/html:<!DOCTYPE HTML PUBLIC
  "-//W3C//DTD HTML 3.2//EN"><html><body><p>The OAC
  Rattlesnake Spring Fling is back!</p>\n \n <p>The
  Spring Fling is a day spent contributing to crag 
 maintenance and strengthening our relationship wit
 h Conservation Halton.  We'll spend the morning pi
 cking up trash\, celebrate our hard work with a fr
 ee lunch\, and then spend the afternoon climbing. 
  Register now to participate in this day of giving
  back to the climbing community!</p>\n \n <p>This 
 year\, we'll again be hosting the event at TWO par
 ks: <strong>Rattlesnake Point Conservation Area</s
 trong>\, and <strong>Mount Nemo Conservation Area<
 /strong>.  Participants may choose to volunteer at
  either park.  Those who volunteer at Mount Nemo m
 ay choose to either join the rest of the group at 
 Rattlesnake for lunch\, or stay at Mount Nemo for 
 climbing in the afternoon (we will only be able to
  provide food at Rattlesnake).  But you won't need
  to make a reservation for your park visit that da
 y\, and can enjoy your free admission to the park 
 for climbing!</p>\n \n <p>Come join us in this day
  of giving back\, meet some new climbing friends\,
  and enjoy the sunshine!  This event is open to al
 l ages -- and yes\, we can sign volunteer forms fo
 r anyone trying to log volunteer hours :)</p></bod
 y></html>
DESCRIPTION:The OAC Rattlesnake Spring Fling is back!\n \n \n 
 \n The Spring Fling is a day spent contributing to
  crag maintenance and strengthening our relationsh
 ip with Conservation Halton.  We'll spend the morn
 ing picking up trash\, celebrate our hard work wit
 h a free lunch\, and then spend the afternoon clim
 bing.  Register now to participate in this day of 
 giving back to the climbing community!\n \n \n \n 
 This year\, we'll again be hosting the event at TW
 O parks: Rattlesnake Point Conservation Area\, and
  Mount Nemo Conservation Area.  Participants may c
 hoose to volunteer at either park.  Those who volu
 nteer at Mount Nemo may choose to either join the 
 rest of the group at Rattlesnake for lunch\, or st
 ay at Mount Nemo for climbing in the afternoon (we
  will only be able to provide food at Rattlesnake)
 .  But you won't need to make a reservation for yo
 ur park visit that day\, and can enjoy your free a
 dmission to the park for climbing!\n \n \n \n Come
  join us in this day of giving back\, meet some ne
 w climbing friends\, and enjoy the sunshine!  This
  event is open to all ages -- and yes\, we can sig
 n volunteer forms for anyone trying to log volunte
 er hours :)\n \n 
CATEGORIES:Crag
CALSCALE:GREGORIAN
DTSTAMP;TZID=America/Toronto:20260503T090000
DTSTART;TZID=America/Toronto:20260503T090000
DTEND;TZID=America/Toronto:20260503T140000
LOCATION:7200 Appleby Line\n Milton\, ON L9E 0M9\n Canada\n
  
URL:https://www.ontarioallianceofclimbers.ca/civi/event/info/?reset=1&id=2317
END:VEVENT
END:VCALENDAR
